Workbook

Sheet Bán hàng T9
A1: Ngày | B1: Giờ | C1: Món | D1: Kênh | E1: SL | F1: Đơn giá | G1: Thành tiền | H1: Ghi chú
A2: 46266 | B2: 07:05 | C2: Bánh mì que | D2: Tại quán | E2: 1 | F2: 15000 | G2: 15000
A3: 46266 | B3: 09:26 | C3: Bạc xỉu | D3: Tại quán | E3: 1 | F3: 32000 | G3: 32000
A4: 46266 | B4: 12:46 | C4: Bạc xỉu | D4: ShopeeFood | E4: 1 | F4: 32000 | G4: 32000
A5: 46266 | B5: 17:24 | C5: Bánh mì que | D5: Tại quán | E5: 2 | F5: 15000 | G5: 30000
A6: 46267 | B6: 10:50 | C6: Cà phê sữa đá | D6: Tại quán | E6: 2 | F6: 29000 | G6: 58000
A7: 46267 | B7: 15:22 | C7: Cà phê sữa đá | D7: Tại quán | E7: 3 | F7: 29000 | G7: 87000
A8: 46267 | B8: 16:34 | C8: Trà đào cam sả | D8: Tại quán | E8: 1 | F8: 39000 | G8: 39000
A9: 46267 | B9: 18:31 | C9: Bánh mì que | D9: Tại quán | E9: 2 | F9: 15000 | G9: 30000
A10: 46268 | B10: 09:08 | C10: Bạc xỉu | D10: GrabFood | E10: 4 | F10: 32000 | G10: 128000
A11: 46268 | B11: 10:40 | C11: Cà phê đen đá | D11: Tại quán | E11: 1 | F11: 25000 | G11: 25000
A12: 46268 | B12: 12:08 | C12: Cà phê sữa đá | D12: ShopeeFood | E12: 1 | F12: 29000 | G12: 29000
A13: 46268 | B13: 14:49 | C13: Cà phê sữa đá | D13: GrabFood | E13: 1 | F13: 29000 | G13: 29000
... A64: 46278 | B64: 10:03 | C64: Bánh mì que | D64: GrabFood | E64: 1 | F64: 15000 | G64: 15000
A65: 46278 | B65: 10:38 | C65: Cà phê đen đá | D65: ShopeeFood | E65: 1 | F65: 25000 | G65: 25000 | H65: khách quen
A66: 46278 | B66: 18:43 | C66: Bạc xỉu | D66: Tại quán | E66: 2 | F66: 32000 | G66: 64000
A67: 46279 | B67: 09:32 | C67: Trà đào cam sả | D67: GrabFood | E67: 1 | F67: 39000 | G67: 39000
A68: 46279 | B68: 11:01 | C68: Bạc xỉu | D68: GrabFood | E68: 2 | F68: 32000 | G68: 64000
A69: 46279 | B69: 12:26 | C69: Cà phê sữa đá | D69: ShopeeFood | E69: 2 | F69: 29000 | G69: 58000
A70: 46279 | B70: 12:29 | C70: Bạc xỉu | D70: Tại quán | E70: 2 | F70: 32000 | G70: 64000
A71: 46279 | B71: 17:06 | C71: Trà đào cam sả | D71: Tại quán | E71: 2 | F71: 39000 | G71: 78000
A72: 46280 | B72: 07:58 | C72: Cà phê sữa đá | D72: Tại quán | E72: 2 | F72: 29000 | G72: 58000
A73: 46280 | B73: 09:26 | C73: Bạc xỉu | D73: GrabFood | E73: 1 | F73: 32000 | G73: 32000
A74: 46280 | B74: 17:33 | C74: Trà đào cam sả | D74: Tại quán | E74: 1 | F74: 39000 | G74: 39000
A75: 46280 | B75: 18:06 | C75: Trà đào cam sả | D75: GrabFood | E75: 3 | F75: 39000 | G75: 117000
A76: 46281 | B76: 09:27 | C76: Cà phê sữa đá | D76: Tại quán | E76: 1 | F76: 29000 | G76: 29000
A77: 46281 | B77: 12:55 | C77: Cold brew cam | D77: Tại quán | E77: 1 | F77: 45000 | G77: 45000
... A137: 46292 | B137: 18:39 | C137: Cà phê sữa đá | D137: Tại quán | E137: 1 | F137: 29000 | G137: 29000
A138: 46292 | B138: 19:44 | C138: Bạc xỉu | D138: Tại quán | E138: 2 | F138: 32000 | G138: 64000 | H138: giao trễ 15 phút
A139: 46293 | B139: 14:30 | C139: Bánh mì que | D139: GrabFood | E139: 1 | F139: 15000 | G139: 15000
A140: 46293 | B140: 15:03 | C140: Bạc xỉu | D140: Tại quán | E140: 1 | F140: 32000 | G140: 32000
A141: 46293 | B141: 15:11 | C141: Bạc xỉu | D141: Tại quán | E141: 2 | F141: 32000 | G141: 64000
A142: 46293 | B142: 15:54 | C142: Bánh mì que | D142: Tại quán | E142: 2 | F142: 15000 | G142: 30000
A143: 46293 | B143: 16:22 | C143: Cold brew cam | D143: GrabFood | E143: 3 | F143: 45000 | G143: 135000
A144: 46293 | B144: 17:16 | C144: Cà phê sữa đá | D144: Tại quán | E144: 2 | F144: 29000 | G144: 58000
A145: 46294 | B145: 07:03 | C145: Cà phê sữa đá | D145: GrabFood | E145: 3 | F145: 29000 | G145: 87000
A146: 46294 | B146: 07:52 | C146: Trà đào cam sả | D146: Tại quán | E146: 2 | F146: 39000 | G146: 78000
A147: 46294 | B147: 09:09 | C147: Bạc xỉu | D147: Tại quán | E147: 2 | F147: 32000 | G147: 64000
A148: 46294 | B148: 09:14 | C148: Bạc xỉu | D148: Tại quán | E148: 1 | F148: 32000 | G148: 32000
A149: 46294 | B149: 13:16 | C149: Cà phê đen đá | D149: Tại quán | E149: 1 | F149: 25000 | G149: 25000
...

Sheet Tổng hợp
A1: Chỉ số | B1: Giá trị
A2: Tổng doanh thu tháng 9 | B2: =SUM('Bán hàng T9'!G2:G155) -> 7745000
A3: Số đơn | B3: =COUNTA('Bán hàng T9'!A2:A155) -> 154
A4: Số đơn GrabFood | B4: =COUNTIF('Bán hàng T9'!D2:D155,"GrabFood") -> 38
A5: Doanh thu GrabFood | B5: =SUMIF('Bán hàng T9'!D2:D155,"GrabFood",'Bán hàng T9'!G2:G155) -> 1874000
A6: Doanh thu ShopeeFood | B6: =SUMIF('Bán hàng T9'!D2:D155,"ShopeeFood",'Bán hàng T9'!G2:G155) -> 1509000
A7: Trung bình mỗi đơn ShopeeFood | B7: =B6/COUNTIF('Bán hàng T9'!D2:D155,"ShopeeFood") -> 55888.889

Sheet Báo cáo
A1: Báo cáo doanh thu tháng 9/2026 theo kênh và theo tuần
A2: Đơn vị: đồng. Tuần tính theo ngày trong tháng (1–7, 8–14, 15–21, 22–28, 29–30). Ngày bắt đầu ở B5 có thể sửa.
A4: Tuần | B4: Từ ngày | C4: Đến ngày | D4: Tại quán | E4: GrabFood | F4: ShopeeFood | G4: Tổng
A5: Tuần 1 | B5: =DATE(2026,9,1) -> 46266 | C5: =MIN(B5+6,EOMONTH($B$5,0)) -> 46272 | D5: =SUMIFS('Bán hàng T9'!$G:$G,'Bán hàng T9'!$D:$D,D$4,'Bán hàng T9'!$A:$A,">="&$B5,'Bán hàng T9'!$A:$A,"<="&$C5) -> 1232000 | E5: =SUMIFS('Bán hàng T9'!$G:$G,'Bán hàng T9'!$D:$D,E$4,'Bán hàng T9'!$A:$A,">="&$B5,'Bán hàng T9'!$A:$A,"<="&$C5) -> 272000 | F5: =SUMIFS('Bán hàng T9'!$G:$G,'Bán hàng T9'!$D:$D,F$4,'Bán hàng T9'!$A:$A,">="&$B5,'Bán hàng T9'!$A:$A,"<="&$C5) -> 196000 | G5: =SUM(D5:F5) -> 1700000
A6: Tuần 2 | B6: =C5+1 -> 46273 | C6: =MIN(B6+6,EOMONTH($B$5,0)) -> 46279 | D6: =SUMIFS('Bán hàng T9'!$G:$G,'Bán hàng T9'!$D:$D,D$4,'Bán hàng T9'!$A:$A,">="&$B6,'Bán hàng T9'!$A:$A,"<="&$C6) -> 821000 | E6: =SUMIFS('Bán hàng T9'!$G:$G,'Bán hàng T9'!$D:$D,E$4,'Bán hàng T9'!$A:$A,">="&$B6,'Bán hàng T9'!$A:$A,"<="&$C6) -> 623000 | F6: =SUMIFS('Bán hàng T9'!$G:$G,'Bán hàng T9'!$D:$D,F$4,'Bán hàng T9'!$A:$A,">="&$B6,'Bán hàng T9'!$A:$A,"<="&$C6) -> 559000 | G6: =SUM(D6:F6) -> 2003000
A7: Tuần 3 | B7: =C6+1 -> 46280 | C7: =MIN(B7+6,EOMONTH($B$5,0)) -> 46286 | D7: =SUMIFS('Bán hàng T9'!$G:$G,'Bán hàng T9'!$D:$D,D$4,'Bán hàng T9'!$A:$A,">="&$B7,'Bán hàng T9'!$A:$A,"<="&$C7) -> 1102000 | E7: =SUMIFS('Bán hàng T9'!$G:$G,'Bán hàng T9'!$D:$D,E$4,'Bán hàng T9'!$A:$A,">="&$B7,'Bán hàng T9'!$A:$A,"<="&$C7) -> 421000 | F7: =SUMIFS('Bán hàng T9'!$G:$G,'Bán hàng T9'!$D:$D,F$4,'Bán hàng T9'!$A:$A,">="&$B7,'Bán hàng T9'!$A:$A,"<="&$C7) -> 155000 | G7: =SUM(D7:F7) -> 1678000
A8: Tuần 4 | B8: =C7+1 -> 46287 | C8: =MIN(B8+6,EOMONTH($B$5,0)) -> 46293 | D8: =SUMIFS('Bán hàng T9'!$G:$G,'Bán hàng T9'!$D:$D,D$4,'Bán hàng T9'!$A:$A,">="&$B8,'Bán hàng T9'!$A:$A,"<="&$C8) -> 1008000 | E8: =SUMIFS('Bán hàng T9'!$G:$G,'Bán hàng T9'!$D:$D,E$4,'Bán hàng T9'!$A:$A,">="&$B8,'Bán hàng T9'!$A:$A,"<="&$C8) -> 378000 | F8: =SUMIFS('Bán hàng T9'!$G:$G,'Bán hàng T9'!$D:$D,F$4,'Bán hàng T9'!$A:$A,">="&$B8,'Bán hàng T9'!$A:$A,"<="&$C8) -> 420000 | G8: =SUM(D8:F8) -> 1806000
A9: Tuần 5 | B9: =C8+1 -> 46294 | C9: =MIN(B9+6,EOMONTH($B$5,0)) -> 46295 | D9: =SUMIFS('Bán hàng T9'!$G:$G,'Bán hàng T9'!$D:$D,D$4,'Bán hàng T9'!$A:$A,">="&$B9,'Bán hàng T9'!$A:$A,"<="&$C9) -> 199000 | E9: =SUMIFS('Bán hàng T9'!$G:$G,'Bán hàng T9'!$D:$D,E$4,'Bán hàng T9'!$A:$A,">="&$B9,'Bán hàng T9'!$A:$A,"<="&$C9) -> 180000 | F9: =SUMIFS('Bán hàng T9'!$G:$G,'Bán hàng T9'!$D:$D,F$4,'Bán hàng T9'!$A:$A,">="&$B9,'Bán hàng T9'!$A:$A,"<="&$C9) -> 179000 | G9: =SUM(D9:F9) -> 558000
A10: Tổng tháng 9 | D10: =SUM(D5:D9) -> 4362000 | E10: =SUM(E5:E9) -> 1874000 | F10: =SUM(F5:F9) -> 1509000 | G10: =SUM(G5:G9) -> 7745000
A11: Tỷ trọng | D11: =D10/$G$10 -> 0.56320207 | E11: =E10/$G$10 -> 0.24196256 | F11: =F10/$G$10 -> 0.19483538 | G11: =G10/$G$10 -> 1
A13: Đối chiếu: tổng cột Thành tiền trên sheet Bán hàng T9 | G13: =SUM('Bán hàng T9'!G:G) -> 7745000
A14: Chênh lệch (phải bằng 0) | G14: =G10-G13 -> 0

Sheet Dòng đã xóa
A1: Dòng gốc | B1: Trùng với dòng | C1: Ngày | D1: Giờ | E1: Món | F1: Kênh | G1: SL | H1: Đơn giá | I1: Thành tiền | J1: Ghi chú
A2: 18 | B2: 17 | C2: 2026-09-04 | D2: 15:31 | E2: Trà đào cam sả | F2: ShopeeFood | G2: 1 | H2: 39000 | I2: 39000
A3: 35 | B3: 34 | C3: 07/09/2026 | D3: 14:39 | E3: Cold brew cam | F3: Tại quán | G3: 3 | H3: 45000 | I3: 135000
A4: 41 | B4: 40 | C4: 46273 | D4: 15:08 | E4: Trà đào cam sả | F4: ShopeeFood | G4: 3 | H4: 39000 | I4: 117000
A5: 50 | B5: 49 | C5: 09/09/2026 | D5: 20:31 | E5: Cà phê sữa đá | F5: Tại quán | G5: 3 | H5: 29000 | I5: 87000
A6: 66 | B6: 65 | C6: 2026-09-12 | D6: 14:10 | E6: Bánh mì que | F6: Tại quán | G6: 1 | H6: 15000 | I6: 15.000đ
A8: Các dòng trên được chép nguyên trạng (trước khi chuẩn hoá) từ sheet 'Bán hàng T9' trước khi xoá do trùng ngày, giờ, món, kênh, SL.
